BEGIN:VCALENDAR
VERSION:2.0
PRODID:-//Tukios.com/
BEGIN:VEVENT
UID:e0ce1e8a-04d5-40ba-8ece-53b054e5f62e@www.mjrfuneralhome.com
DTSTAMP:20260423T182943Z
DTSTART:20260425T160000Z
DTEND:20260425T170000Z
SUMMARY:Funeral Service
DESCRIPTION:
URL:https://www.mjrfuneralhome.com/obituaries/arron-williams
LOCATION:MJR Friendly Service Funeral Home 87 Paddio Johnson Road  
	Greensburg LA 70441
GEO:30.8277893;-90.6983261
END:VEVENT
END:VCALENDAR