BEGIN:VCALENDAR
VERSION:2.0
PRODID:-//Tukios.com/
BEGIN:VEVENT
UID:5fa21adc-a18c-4a3a-b521-8740df0b582d@www.mjrfuneralhome.com
DTSTAMP:20260423T223955Z
DTSTART:20260425T140000Z
DTEND:20260425T160000Z
SUMMARY:Viewing
DESCRIPTION:
URL:https://www.mjrfuneralhome.com/obituaries/herman-seals
LOCATION: 1005 NW Central Ave.  Amite City LA 70422
GEO:30.7380233;-90.5094438
END:VEVENT
END:VCALENDAR